BEGIN:VCALENDAR
VERSION:2.0
PRODID:-//Mount Pleasant Church - ECPv6.15.20//NONSGML v1.0//EN
CALSCALE:GREGORIAN
METHOD:PUBLISH
X-WR-CALNAME:Mount Pleasant Church
X-ORIGINAL-URL:https://mountpleasantindy.org
X-WR-CALDESC:Events for Mount Pleasant Church
REFRESH-INTERVAL;VALUE=DURATION:PT1H
X-Robots-Tag:noindex
X-PUBLISHED-TTL:PT1H
BEGIN:VTIMEZONE
TZID:UTC
BEGIN:STANDARD
TZOFFSETFROM:+0000
TZOFFSETTO:+0000
TZNAME:UTC
DTSTART:20250101T000000
END:STANDARD
END:VTIMEZONE
BEGIN:VEVENT
DTSTART;VALUE=DATE:20260402
DTEND;VALUE=DATE:20260403
DTSTAMP:20260419T141731
CREATED:20260328T011101Z
LAST-MODIFIED:20260328T011125Z
UID:10000619-1775088000-1775174399@mountpleasantindy.org
SUMMARY:Fellowship with New Baptist Church
DESCRIPTION:Time to be Announced
URL:https://mountpleasantindy.org/calendar/fellowship-with-new-baptist-church/
LOCATION:New Baptist Church\, 1211 Dr. Martin Luther King Jr.\, Indianapolis\, IN\, 46202\, United States
END:VEVENT
END:VCALENDAR