BEGIN:VCALENDAR
VERSION:2.0
PRODID:-//Mount Pleasant Church - ECPv6.15.20//NONSGML v1.0//EN
CALSCALE:GREGORIAN
METHOD:PUBLISH
X-WR-CALNAME:Mount Pleasant Church
X-ORIGINAL-URL:https://mountpleasantindy.org
X-WR-CALDESC:Events for Mount Pleasant Church
REFRESH-INTERVAL;VALUE=DURATION:PT1H
X-Robots-Tag:noindex
X-PUBLISHED-TTL:PT1H
BEGIN:VTIMEZONE
TZID:UTC
BEGIN:STANDARD
TZOFFSETFROM:+0000
TZOFFSETTO:+0000
TZNAME:UTC
DTSTART:20240101T000000
END:STANDARD
END:VTIMEZONE
BEGIN:VEVENT
DTSTART;TZID=UTC:20250616T173000
DTEND;TZID=UTC:20250616T200000
DTSTAMP:20260419T140325
CREATED:20250313T230115Z
LAST-MODIFIED:20250618T004301Z
UID:10000163-1750095000-1750104000@mountpleasantindy.org
SUMMARY:VACATION BIBLE SCHOOL
DESCRIPTION:
URL:https://mountpleasantindy.org/calendar/vacation-bible-school-5/
LOCATION:Fellowship Hall
ORGANIZER;CN="Kimberly Harris":MAILTO:kharris1962@yahoo.com
END:VEVENT
BEGIN:VEVENT
DTSTART;TZID=UTC:20250617T080000
DTEND;TZID=UTC:20250617T170000
DTSTAMP:20260419T140325
CREATED:20250618T004332Z
LAST-MODIFIED:20250618T004459Z
UID:10000197-1750147200-1750179600@mountpleasantindy.org
SUMMARY:VACATION BIBLE SCHOOL
DESCRIPTION:
URL:https://mountpleasantindy.org/calendar/vacation-bible-school-6/
LOCATION:IN
END:VEVENT
BEGIN:VEVENT
DTSTART;TZID=UTC:20250618T080000
DTEND;TZID=UTC:20250618T170000
DTSTAMP:20260419T140325
CREATED:20250618T004417Z
LAST-MODIFIED:20250618T004417Z
UID:10000198-1750233600-1750266000@mountpleasantindy.org
SUMMARY:VACATION BIBLE SCHOOL
DESCRIPTION:
URL:https://mountpleasantindy.org/calendar/vacation-bible-school-7/
LOCATION:IN
END:VEVENT
BEGIN:VEVENT
DTSTART;TZID=UTC:20250621T103000
DTEND;TZID=UTC:20250621T113000
DTSTAMP:20260419T140325
CREATED:20250503T181127Z
LAST-MODIFIED:20250619T215917Z
UID:10000192-1750501800-1750505400@mountpleasantindy.org
SUMMARY:Senior Chair Exercises
DESCRIPTION:Seniors Build Strength\, Increase Flexibility\, Regain Mobility\, and Enhance Mental Wellbeing through Chair Exercises. \nFree sessions Saturdays\, June 7th\, 14th\, and 21st.
URL:https://mountpleasantindy.org/calendar/senior-chair-exercises-3/
LOCATION:IN
END:VEVENT
END:VCALENDAR