BEGIN:VCALENDAR
VERSION:2.0
PRODID:-//Mount Pleasant Church - ECPv6.15.20//NONSGML v1.0//EN
CALSCALE:GREGORIAN
METHOD:PUBLISH
X-WR-CALNAME:Mount Pleasant Church
X-ORIGINAL-URL:https://mountpleasantindy.org
X-WR-CALDESC:Events for Mount Pleasant Church
REFRESH-INTERVAL;VALUE=DURATION:PT1H
X-Robots-Tag:noindex
X-PUBLISHED-TTL:PT1H
BEGIN:VTIMEZONE
TZID:UTC
BEGIN:STANDARD
TZOFFSETFROM:+0000
TZOFFSETTO:+0000
TZNAME:UTC
DTSTART:20240101T000000
END:STANDARD
END:VTIMEZONE
BEGIN:VEVENT
DTSTART;TZID=UTC:20250307T190000
DTEND;TZID=UTC:20250307T210000
DTSTAMP:20260419T204308
CREATED:20250228T022440Z
LAST-MODIFIED:20250228T022440Z
UID:10000157-1741374000-1741381200@mountpleasantindy.org
SUMMARY:YAYA First Friday Bible Study
DESCRIPTION:
URL:https://mountpleasantindy.org/calendar/yaya-first-friday-bible-study/
LOCATION:IN
ORGANIZER;CN="Pastor Dennis Williams":MAILTO:dwilliams@mountpleasantindy.org
END:VEVENT
END:VCALENDAR