BEGIN:VCALENDAR
VERSION:2.0
PRODID:-//Mount Pleasant Church - ECPv6.15.20//NONSGML v1.0//EN
CALSCALE:GREGORIAN
METHOD:PUBLISH
X-WR-CALNAME:Mount Pleasant Church
X-ORIGINAL-URL:https://mountpleasantindy.org
X-WR-CALDESC:Events for Mount Pleasant Church
REFRESH-INTERVAL;VALUE=DURATION:PT1H
X-Robots-Tag:noindex
X-PUBLISHED-TTL:PT1H
BEGIN:VTIMEZONE
TZID:UTC
BEGIN:STANDARD
TZOFFSETFROM:+0000
TZOFFSETTO:+0000
TZNAME:UTC
DTSTART:20240101T000000
END:STANDARD
END:VTIMEZONE
BEGIN:VEVENT
DTSTART;TZID=UTC:20250507T183000
DTEND;TZID=UTC:20250507T200000
DTSTAMP:20260417T222835
CREATED:20250503T170818Z
LAST-MODIFIED:20250503T170818Z
UID:10000177-1746642600-1746648000@mountpleasantindy.org
SUMMARY:Leadership Meeting
DESCRIPTION:
URL:https://mountpleasantindy.org/calendar/leadership-meeting/
LOCATION:Fellowship Hall
END:VEVENT
BEGIN:VEVENT
DTSTART;TZID=UTC:20250508T183000
DTEND;TZID=UTC:20250508T200000
DTSTAMP:20260417T222835
CREATED:20250503T170951Z
LAST-MODIFIED:20250503T170951Z
UID:10000178-1746729000-1746734400@mountpleasantindy.org
SUMMARY:Ministers Meeting
DESCRIPTION:Location to be announced.
URL:https://mountpleasantindy.org/calendar/ministers-meeting/
LOCATION:IN
END:VEVENT
BEGIN:VEVENT
DTSTART;TZID=UTC:20250511T120000
DTEND;TZID=UTC:20250511T130000
DTSTAMP:20260417T222835
CREATED:20250503T171451Z
LAST-MODIFIED:20250503T171451Z
UID:10000179-1746964800-1746968400@mountpleasantindy.org
SUMMARY:Basketball Fellowship
DESCRIPTION:Every 2nd and 4th Sunday \nAfter 10:30 Service \nHalf court on the church’s property
URL:https://mountpleasantindy.org/calendar/basketball-fellowship/
LOCATION:IN
END:VEVENT
BEGIN:VEVENT
DTSTART;TZID=UTC:20250511T120000
DTEND;TZID=UTC:20250511T130000
DTSTAMP:20260417T222835
CREATED:20250503T173811Z
LAST-MODIFIED:20250503T173811Z
UID:10000187-1746964800-1746968400@mountpleasantindy.org
SUMMARY:YAYA Bake Sale
DESCRIPTION:After the 10:30 Service \n \n 
URL:https://mountpleasantindy.org/calendar/yaya-bake-sale-2/
LOCATION:IN
END:VEVENT
BEGIN:VEVENT
DTSTART;TZID=UTC:20250517T100000
DTEND;TZID=UTC:20250517T120000
DTSTAMP:20260417T222835
CREATED:20250513T005736Z
LAST-MODIFIED:20250513T005912Z
UID:10000194-1747476000-1747483200@mountpleasantindy.org
SUMMARY:S.I.S.T.E.R.S. sponsored Diaper Drive
DESCRIPTION:Donations are made to the Indiana Diaper Bank. \n \n 
URL:https://mountpleasantindy.org/calendar/s-i-s-t-e-r-s-sponsored-diaper-drive/
LOCATION:IN
END:VEVENT
BEGIN:VEVENT
DTSTART;TZID=UTC:20250517T103000
DTEND;TZID=UTC:20250517T120000
DTSTAMP:20260417T222835
CREATED:20250503T174100Z
LAST-MODIFIED:20250503T174118Z
UID:10000188-1747477800-1747483200@mountpleasantindy.org
SUMMARY:S.I.S.T.E.R.S. Monthly Meeting
DESCRIPTION:Session to be held in the Sanctuary.
URL:https://mountpleasantindy.org/calendar/s-i-s-t-e-r-s-monthly-meeting/
LOCATION:IN
END:VEVENT
BEGIN:VEVENT
DTSTART;TZID=UTC:20250517T110000
DTEND;TZID=UTC:20250517T120000
DTSTAMP:20260417T222835
CREATED:20250513T010656Z
LAST-MODIFIED:20250513T011212Z
UID:10000195-1747479600-1747483200@mountpleasantindy.org
SUMMARY:Men of Purpose Meeting
DESCRIPTION:MOP meeting and book selection month.
URL:https://mountpleasantindy.org/calendar/men-of-purpose-meeting-3/
LOCATION:IN
END:VEVENT
BEGIN:VEVENT
DTSTART;TZID=UTC:20250525T120000
DTEND;TZID=UTC:20250525T130000
DTSTAMP:20260417T222835
CREATED:20250503T172020Z
LAST-MODIFIED:20250513T012008Z
UID:10000180-1748174400-1748178000@mountpleasantindy.org
SUMMARY:Basketball Fellowship
DESCRIPTION:Every 2nd & 4th Sunday after 10:30 Service \nHalf court on the church property
URL:https://mountpleasantindy.org/calendar/basketball-fellowship-2/
LOCATION:IN
END:VEVENT
END:VCALENDAR