BEGIN:VCALENDAR
VERSION:2.0
PRODID:-//Mount Pleasant Church - ECPv6.15.20//NONSGML v1.0//EN
CALSCALE:GREGORIAN
METHOD:PUBLISH
X-ORIGINAL-URL:https://mountpleasantindy.org
X-WR-CALDESC:Events for Mount Pleasant Church
REFRESH-INTERVAL;VALUE=DURATION:PT1H
X-Robots-Tag:noindex
X-PUBLISHED-TTL:PT1H
BEGIN:VTIMEZONE
TZID:UTC
BEGIN:STANDARD
TZOFFSETFROM:+0000
TZOFFSETTO:+0000
TZNAME:UTC
DTSTART:20240101T000000
END:STANDARD
END:VTIMEZONE
BEGIN:VEVENT
DTSTART;TZID=UTC:20250412T100000
DTEND;TZID=UTC:20250412T120000
DTSTAMP:20260419T155828
CREATED:20250409T015609Z
LAST-MODIFIED:20250409T015609Z
UID:10000168-1744452000-1744459200@mountpleasantindy.org
SUMMARY:Loving Our Neighbors In Service Day
DESCRIPTION:  \n \n  \nOutreach Event – Pass out meals to those in need. \nMeal Prep – Friday\, April 11\, 2025 at 6:30 PM
URL:https://mountpleasantindy.org/calendar/loving-our-neighbors-in-service-day/
LOCATION:IN
END:VEVENT
BEGIN:VEVENT
DTSTART;VALUE=DATE:20250413
DTEND;VALUE=DATE:20250414
DTSTAMP:20260419T155828
CREATED:20250409T015823Z
LAST-MODIFIED:20250409T015823Z
UID:10000169-1744502400-1744588799@mountpleasantindy.org
SUMMARY:Palm Sunday
DESCRIPTION:8:00 am and 10:30 am Services \nLENT to end at 11:59 pm
URL:https://mountpleasantindy.org/calendar/palm-sunday/
LOCATION:IN
END:VEVENT
BEGIN:VEVENT
DTSTART;TZID=UTC:20250416T190000
DTEND;TZID=UTC:20250416T203000
DTSTAMP:20260419T155828
CREATED:20250409T020030Z
LAST-MODIFIED:20250409T020030Z
UID:10000170-1744830000-1744835400@mountpleasantindy.org
SUMMARY:Prayer & Praise Worship Service
DESCRIPTION:
URL:https://mountpleasantindy.org/calendar/prayer-praise-worship-service/
LOCATION:IN
END:VEVENT
BEGIN:VEVENT
DTSTART;TZID=UTC:20250417T180000
DTEND;TZID=UTC:20250417T200000
DTSTAMP:20260419T155828
CREATED:20250409T020226Z
LAST-MODIFIED:20250409T021341Z
UID:10000171-1744912800-1744920000@mountpleasantindy.org
SUMMARY:Maundy Community Dinner
DESCRIPTION:
URL:https://mountpleasantindy.org/calendar/maundy-community-dinner/
LOCATION:Fellowship Hall
END:VEVENT
BEGIN:VEVENT
DTSTART;TZID=UTC:20250418T183000
DTEND;TZID=UTC:20250418T200000
DTSTAMP:20260419T155828
CREATED:20250409T022533Z
LAST-MODIFIED:20250409T022533Z
UID:10000172-1745001000-1745006400@mountpleasantindy.org
SUMMARY:Good Friday Service - Guest Speaker Dr. Antione Hutchins\, Sr.
DESCRIPTION:
URL:https://mountpleasantindy.org/calendar/good-friday-service-guest-speaker-dr-antione-hutchins-sr/
LOCATION:IN
END:VEVENT
BEGIN:VEVENT
DTSTART;TZID=UTC:20250418T190000
DTEND;TZID=UTC:20250418T210000
DTSTAMP:20260419T155828
CREATED:20250319T020459Z
LAST-MODIFIED:20250319T020859Z
UID:10000167-1745002800-1745010000@mountpleasantindy.org
SUMMARY:Good Friday Service
DESCRIPTION:
URL:https://mountpleasantindy.org/calendar/good-friday-service/
LOCATION:Mount Pleasant Church\, 5111 W. 62nd Street\, Indianapolis\, IN\, 46268\, United States
ORGANIZER;CN="Kadell Randle":MAILTO:dr.blkkeys@gmail.com
END:VEVENT
BEGIN:VEVENT
DTSTART;TZID=UTC:20250419T120000
DTEND;TZID=UTC:20250419T150000
DTSTAMP:20260419T155828
CREATED:20250409T023012Z
LAST-MODIFIED:20250409T023012Z
UID:10000173-1745064000-1745074800@mountpleasantindy.org
SUMMARY:YAYA sponsored Easter Play - I DON'T BELIEVE & EASTER EGG HUNT
DESCRIPTION:
URL:https://mountpleasantindy.org/calendar/yaya-sponsored-easter-play-i-dont-believe-easter-egg-hunt/
LOCATION:IN
END:VEVENT
BEGIN:VEVENT
DTSTART;VALUE=DATE:20250420
DTEND;VALUE=DATE:20250421
DTSTAMP:20260419T155828
CREATED:20250409T023216Z
LAST-MODIFIED:20250409T023216Z
UID:10000174-1745107200-1745193599@mountpleasantindy.org
SUMMARY:RESURRECTION SUNDAY
DESCRIPTION:  \n  \n 
URL:https://mountpleasantindy.org/calendar/resurrection-sunday/
LOCATION:IN
END:VEVENT
BEGIN:VEVENT
DTSTART;TZID=UTC:20250426T160000
DTEND;TZID=UTC:20250426T190000
DTSTAMP:20260419T155828
CREATED:20250313T203233Z
LAST-MODIFIED:20250321T010210Z
UID:10000158-1745683200-1745694000@mountpleasantindy.org
SUMMARY:S.I.S.T.E.R.S. sponsored BOND-FIRE
DESCRIPTION:THIS EVENT WILL BE A TIME TO SHARE JESUS AS THE LIGHT OF THE WORLD WHILE BONDING TOGETHER AS CHRISTIAN WOMEN THROUGH ACTIVITIES AND SOME FUN. \nOutdoors Event – Weather Permitting\nIndoors – With Inclement Weather
URL:https://mountpleasantindy.org/calendar/s-i-s-t-e-r-s-bond-fire/
LOCATION:IN
ORGANIZER;CN="SHERRIE HAWKINS":MAILTO:shawk6972@gmail.com
END:VEVENT
BEGIN:VEVENT
DTSTART;TZID=UTC:20250430T190000
DTEND;TZID=UTC:20250430T203000
DTSTAMP:20260419T155828
CREATED:20250416T005404Z
LAST-MODIFIED:20250416T005404Z
UID:10000176-1746039600-1746045000@mountpleasantindy.org
SUMMARY:Mt. Pleasant Church visits St. Luke Church
DESCRIPTION:2nd Anniversary of Senior Pastor Jeffrey N. Brown\, Jr.\, St. Luke Church \nDr. Michael S. Johnson\, Senior Pastor\, Mt. Pleasant Church\, Guest Speaker \n 
URL:https://mountpleasantindy.org/calendar/mt-pleasant-church-visits-st-luke-missionary-baptist-church/
LOCATION:St. Luke Church\, 5325 E. 30th Street\, Indianapolis\, IN\, 46218\, United States
END:VEVENT
END:VCALENDAR