BEGIN:VCALENDAR
VERSION:2.0
PRODID:-//Mount Pleasant Church - ECPv6.15.20//NONSGML v1.0//EN
CALSCALE:GREGORIAN
METHOD:PUBLISH
X-WR-CALNAME:Mount Pleasant Church
X-ORIGINAL-URL:https://mountpleasantindy.org
X-WR-CALDESC:Events for Mount Pleasant Church
REFRESH-INTERVAL;VALUE=DURATION:PT1H
X-Robots-Tag:noindex
X-PUBLISHED-TTL:PT1H
BEGIN:VTIMEZONE
TZID:UTC
BEGIN:STANDARD
TZOFFSETFROM:+0000
TZOFFSETTO:+0000
TZNAME:UTC
DTSTART:20240101T000000
END:STANDARD
END:VTIMEZONE
BEGIN:VEVENT
DTSTART;TZID=UTC:20250118T100000
DTEND;TZID=UTC:20250118T120000
DTSTAMP:20260419T204238
CREATED:20250104T151121Z
LAST-MODIFIED:20250104T151121Z
UID:10000147-1737194400-1737201600@mountpleasantindy.org
SUMMARY:NORA WOOD MISSIONARIES MEETING
DESCRIPTION:
URL:https://mountpleasantindy.org/calendar/nora-wood-missionaries-meeting/
LOCATION:IN
ORGANIZER;CN="Angela Kincaid":MAILTO:angelakincaid@aol.com
END:VEVENT
BEGIN:VEVENT
DTSTART;TZID=UTC:20250118T110000
DTEND;TZID=UTC:20250118T120000
DTSTAMP:20260419T204238
CREATED:20250104T150616Z
LAST-MODIFIED:20250104T150616Z
UID:10000146-1737198000-1737201600@mountpleasantindy.org
SUMMARY:MEN OF PURPOSE MEETING w/BOOK DISCUSSION
DESCRIPTION:
URL:https://mountpleasantindy.org/calendar/men-of-purpose-meeting-w-book-discussion/
LOCATION:IN
ORGANIZER;CN="Deacon Robert Sims":MAILTO:rsims4you@aol.com
END:VEVENT
BEGIN:VEVENT
DTSTART;TZID=UTC:20250119T150000
DTEND;TZID=UTC:20250119T170000
DTSTAMP:20260419T204238
CREATED:20250104T152943Z
LAST-MODIFIED:20250104T152943Z
UID:10000149-1737298800-1737306000@mountpleasantindy.org
SUMMARY:YAYA Rematch w/Light of the World Christian Church
DESCRIPTION:Mount Pleasant Church vs Light of the World Christian Church
URL:https://mountpleasantindy.org/calendar/yaya-rematch-w-light-of-the-world-christian-church/
LOCATION:Light of the World Christian Church\, 4646 N. Michigan Rd\, Indianapolis\, IN\, 46228\, United States
ORGANIZER;CN="Pastor Dennis Williams":MAILTO:dwilliams@mountpleasantindy.org
END:VEVENT
BEGIN:VEVENT
DTSTART;TZID=UTC:20250120T090000
DTEND;TZID=UTC:20250120T160000
DTSTAMP:20260419T204238
CREATED:20250104T151740Z
LAST-MODIFIED:20250104T151740Z
UID:10000148-1737363600-1737388800@mountpleasantindy.org
SUMMARY:YAYA MLK FIELD TRIP
DESCRIPTION:
URL:https://mountpleasantindy.org/calendar/yaya-mlk-field-trip/
LOCATION:IN
ORGANIZER;CN="Pastor Dennis Williams":MAILTO:dwilliams@mountpleasantindy.org
END:VEVENT
END:VCALENDAR