BEGIN:VCALENDAR
VERSION:2.0
PRODID:-//Mount Pleasant Church - ECPv6.15.20//NONSGML v1.0//EN
CALSCALE:GREGORIAN
METHOD:PUBLISH
X-ORIGINAL-URL:https://mountpleasantindy.org
X-WR-CALDESC:Events for Mount Pleasant Church
REFRESH-INTERVAL;VALUE=DURATION:PT1H
X-Robots-Tag:noindex
X-PUBLISHED-TTL:PT1H
BEGIN:VTIMEZONE
TZID:UTC
BEGIN:STANDARD
TZOFFSETFROM:+0000
TZOFFSETTO:+0000
TZNAME:UTC
DTSTART:20230101T000000
END:STANDARD
END:VTIMEZONE
BEGIN:VEVENT
DTSTART;VALUE=DATE:20241101
DTEND;VALUE=DATE:20241102
DTSTAMP:20260419T234704
CREATED:20240713T165816Z
LAST-MODIFIED:20240713T165832Z
UID:10000135-1730419200-1730505599@mountpleasantindy.org
SUMMARY:S.I.S.T.E.R.S. MINISTRY SPONSORED SOUL OF MEMPHIS EXCURSION – JUNE 26\, 2025 TO JUNE 29\, 2025
DESCRIPTION:EXPLORE THE SOUL OF MEMPHIS \nContact Organizers for more information. \nSHARON HAIRSTON 317-334-5924 \nDANA KEETS 317-294-9459
URL:https://mountpleasantindy.org/calendar/s-i-s-t-e-r-s-ministry-sponsored-soul-of-memphis-excursion-june-26-2025-to-june-29-2025-4/
LOCATION:IN
END:VEVENT
BEGIN:VEVENT
DTSTART;VALUE=DATE:20241110
DTEND;VALUE=DATE:20241111
DTSTAMP:20260419T234704
CREATED:20240522T021745Z
LAST-MODIFIED:20240522T021745Z
UID:10000119-1731196800-1731283199@mountpleasantindy.org
SUMMARY:12th Pastoral Anniversary
DESCRIPTION:
URL:https://mountpleasantindy.org/calendar/12th-pastoral-anniversary/
LOCATION:IN
END:VEVENT
BEGIN:VEVENT
DTSTART;TZID=UTC:20241117T103000
DTEND;TZID=UTC:20241117T103000
DTSTAMP:20260419T234704
CREATED:20240713T155020Z
LAST-MODIFIED:20240713T155020Z
UID:10000128-1731839400-1731839400@mountpleasantindy.org
SUMMARY:BAPTISMS & BABY DEDICATIONS
DESCRIPTION:Every 3rd Sunday \nContact Sis. Dana Keets at 317-291-6655 to schedule your event.
URL:https://mountpleasantindy.org/calendar/baptisms-baby-dedications-5/
LOCATION:IN
END:VEVENT
END:VCALENDAR