BEGIN:VCALENDAR
VERSION:2.0
PRODID:-//Mount Pleasant Church - ECPv6.15.20//NONSGML v1.0//EN
CALSCALE:GREGORIAN
METHOD:PUBLISH
X-ORIGINAL-URL:https://mountpleasantindy.org
X-WR-CALDESC:Events for Mount Pleasant Church
REFRESH-INTERVAL;VALUE=DURATION:PT1H
X-Robots-Tag:noindex
X-PUBLISHED-TTL:PT1H
BEGIN:VTIMEZONE
TZID:UTC
BEGIN:STANDARD
TZOFFSETFROM:+0000
TZOFFSETTO:+0000
TZNAME:UTC
DTSTART:20230101T000000
END:STANDARD
END:VTIMEZONE
BEGIN:VEVENT
DTSTART;VALUE=DATE:20240901
DTEND;VALUE=DATE:20240902
DTSTAMP:20260420T024239
CREATED:20240713T170959Z
LAST-MODIFIED:20240713T171837Z
UID:10000140-1725148800-1725235199@mountpleasantindy.org
SUMMARY:S.I.S.T.E.R.S. MINISTRY SPONSORED SOUL OF MEMPHIS EXCURSION – JUNE 26\, 2025 TO JUNE 29\, 2025
DESCRIPTION:EXPLORE THE SOUL OF MEMPHIS \nContact Organizers for more information. \nSHARON HAIRSTON 317-334-5924 \nDANA KEETS 317-294-9459
URL:https://mountpleasantindy.org/calendar/s-i-s-t-e-r-s-ministry-sponsored-soul-of-memphis-excursion-june-26-2025-to-june-29-2025-9/
LOCATION:IN
END:VEVENT
BEGIN:VEVENT
DTSTART;TZID=UTC:20240915T103000
DTEND;TZID=UTC:20240915T103000
DTSTAMP:20260420T024239
CREATED:20240713T154719Z
LAST-MODIFIED:20240713T154719Z
UID:10000126-1726396200-1726396200@mountpleasantindy.org
SUMMARY:BAPTISMS & BABY DEDICATIONS
DESCRIPTION:Every 3rd Sunday \nContact Sis. Dana Keets at 317-291-6655 to schedule your event. \n 
URL:https://mountpleasantindy.org/calendar/baptisms-baby-dedications-3/
LOCATION:IN
END:VEVENT
BEGIN:VEVENT
DTSTART;TZID=UTC:20240915T123000
DTEND;TZID=UTC:20240915T150000
DTSTAMP:20260420T024239
CREATED:20240829T124904Z
LAST-MODIFIED:20240829T125047Z
UID:10000145-1726403400-1726412400@mountpleasantindy.org
SUMMARY:Senior Ministry Ice Cream Social
DESCRIPTION:Fun / Fellowship / Voter Registration
URL:https://mountpleasantindy.org/calendar/senior-ministry-ice-cream-social/
LOCATION:IN
END:VEVENT
BEGIN:VEVENT
DTSTART;TZID=UTC:20240928T090000
DTEND;TZID=UTC:20240928T100000
DTSTAMP:20260420T024239
CREATED:20240213T012603Z
LAST-MODIFIED:20240213T012603Z
UID:10000071-1727514000-1727517600@mountpleasantindy.org
SUMMARY:Trustee Meeting
DESCRIPTION:
URL:https://mountpleasantindy.org/calendar/trustee-meeting-9/
LOCATION:IN
ORGANIZER;CN="Cicely Hart":MAILTO:dst21@sbcglobal.net
END:VEVENT
END:VCALENDAR