BEGIN:VCALENDAR
VERSION:2.0
PRODID:-//Mount Pleasant Church - ECPv6.15.20//NONSGML v1.0//EN
CALSCALE:GREGORIAN
METHOD:PUBLISH
X-WR-CALNAME:Mount Pleasant Church
X-ORIGINAL-URL:https://mountpleasantindy.org
X-WR-CALDESC:Events for Mount Pleasant Church
REFRESH-INTERVAL;VALUE=DURATION:PT1H
X-Robots-Tag:noindex
X-PUBLISHED-TTL:PT1H
BEGIN:VTIMEZONE
TZID:UTC
BEGIN:STANDARD
TZOFFSETFROM:+0000
TZOFFSETTO:+0000
TZNAME:UTC
DTSTART:20230101T000000
END:STANDARD
END:VTIMEZONE
BEGIN:VEVENT
DTSTART;TZID=UTC:20240406T090000
DTEND;TZID=UTC:20240406T120000
DTSTAMP:20260422T095257
CREATED:20240330T135810Z
LAST-MODIFIED:20240330T135810Z
UID:10000097-1712394000-1712404800@mountpleasantindy.org
SUMMARY:Brookside Community Cleanup
DESCRIPTION:
URL:https://mountpleasantindy.org/calendar/brookside-community-cleanup/
LOCATION:IN
END:VEVENT
BEGIN:VEVENT
DTSTART;TZID=UTC:20240406T100000
DTEND;TZID=UTC:20240406T120000
DTSTAMP:20260422T095257
CREATED:20240330T130317Z
LAST-MODIFIED:20240330T135149Z
UID:10000093-1712397600-1712404800@mountpleasantindy.org
SUMMARY:Mount Pleasant Food Pantry
DESCRIPTION:Event Subject to change. Call 317-721-5685 to confirm.
URL:https://mountpleasantindy.org/calendar/mount-pleasant-food-pantry-3/
LOCATION:IN
END:VEVENT
BEGIN:VEVENT
DTSTART;TZID=UTC:20240413T100000
DTEND;TZID=UTC:20240413T120000
DTSTAMP:20260422T095257
CREATED:20240330T130408Z
LAST-MODIFIED:20240330T135314Z
UID:10000094-1713002400-1713009600@mountpleasantindy.org
SUMMARY:Mount Pleasant Food Pantry
DESCRIPTION:Event Subject to change. Call 317-721-5685 to confirm.
URL:https://mountpleasantindy.org/calendar/mount-pleasant-food-pantry-4/
LOCATION:IN
END:VEVENT
BEGIN:VEVENT
DTSTART;TZID=UTC:20240413T110000
DTEND;TZID=UTC:20240413T123000
DTSTAMP:20260422T095257
CREATED:20240303T161731Z
LAST-MODIFIED:20240330T152627Z
UID:10000086-1713006000-1713011400@mountpleasantindy.org
SUMMARY:Servants of Encouragement (SOE) 2023-2024 New Member Lunch
DESCRIPTION:New Member’s Lunch sponsored by the SOE Ministry. \nAny 2023-2024 New Members RSVP to gwestbrooks@gmail.com or to any SOE Ministry Member. \nLocation: Fellowship Hall
URL:https://mountpleasantindy.org/calendar/servants-of-encouragement-soe-lunch/
LOCATION:IN
END:VEVENT
BEGIN:VEVENT
DTSTART;TZID=UTC:20240419T190000
DTEND;TZID=UTC:20240419T203000
DTSTAMP:20260422T095257
CREATED:20240330T124142Z
LAST-MODIFIED:20240415T235005Z
UID:10000090-1713553200-1713558600@mountpleasantindy.org
SUMMARY:Church-wide Meeting
DESCRIPTION:Meeting for Mount Pleasant members only\, 18 years of age and above. \nLocation: Sanctuary \n 
URL:https://mountpleasantindy.org/calendar/church-wide-meeting/
LOCATION:IN
END:VEVENT
BEGIN:VEVENT
DTSTART;TZID=UTC:20240420T100000
DTEND;TZID=UTC:20240420T120000
DTSTAMP:20260422T095257
CREATED:20240330T130506Z
LAST-MODIFIED:20240330T134706Z
UID:10000095-1713607200-1713614400@mountpleasantindy.org
SUMMARY:Mount Pleasant Food Pantry
DESCRIPTION:Event Subject to change. Call 317-721-5685 to confirm. \n \n 
URL:https://mountpleasantindy.org/calendar/mount-pleasant-food-pantry-5/
LOCATION:IN
END:VEVENT
BEGIN:VEVENT
DTSTART;VALUE=DATE:20240424
DTEND;VALUE=DATE:20240425
DTSTAMP:20260422T095257
CREATED:20240405T021835Z
LAST-MODIFIED:20240405T022138Z
UID:10000103-1713916800-1714003199@mountpleasantindy.org
SUMMARY:Bible Study
DESCRIPTION:NOON  In-person\, \n7:00 PM on BAND \n  \n \n  \n  \n 
URL:https://mountpleasantindy.org/calendar/bible-study/
LOCATION:IN
END:VEVENT
BEGIN:VEVENT
DTSTART;TZID=UTC:20240427T090000
DTEND;TZID=UTC:20240427T100000
DTSTAMP:20260422T095257
CREATED:20240213T011924Z
LAST-MODIFIED:20240213T011924Z
UID:10000066-1714208400-1714212000@mountpleasantindy.org
SUMMARY:Trustee Meeting
DESCRIPTION:
URL:https://mountpleasantindy.org/calendar/trustee-meeting-4/
LOCATION:IN
ORGANIZER;CN="Cicely Hart":MAILTO:dst21@sbcglobal.net
END:VEVENT
BEGIN:VEVENT
DTSTART;TZID=UTC:20240427T100000
DTEND;TZID=UTC:20240427T120000
DTSTAMP:20260422T095257
CREATED:20240212T234631Z
LAST-MODIFIED:20240330T144252Z
UID:10000053-1714212000-1714219200@mountpleasantindy.org
SUMMARY:Shred It Event
DESCRIPTION:Bring your documents to be shredded on-site. \nTell your family\, friends\, and neighbors. \nCost: $5 per box
URL:https://mountpleasantindy.org/calendar/shred-it-event/
LOCATION:IN
END:VEVENT
BEGIN:VEVENT
DTSTART;TZID=UTC:20240427T100000
DTEND;TZID=UTC:20240427T120000
DTSTAMP:20260422T095257
CREATED:20240330T130612Z
LAST-MODIFIED:20240330T133134Z
UID:10000096-1714212000-1714219200@mountpleasantindy.org
SUMMARY:Mount Pleasant Food Pantry
DESCRIPTION:Event Subject to change. Call 317-721-5685 to confirm.
URL:https://mountpleasantindy.org/calendar/mount-pleasant-food-pantry-6/
LOCATION:IN
END:VEVENT
BEGIN:VEVENT
DTSTART;TZID=UTC:20240427T130000
DTEND;TZID=UTC:20240427T143000
DTSTAMP:20260422T095257
CREATED:20240411T224602Z
LAST-MODIFIED:20240411T224744Z
UID:10000106-1714222800-1714228200@mountpleasantindy.org
SUMMARY:S.I.S.T.E.R.S. Women's Ministry Meeting
DESCRIPTION:All Mount Pleasant women are welcomed to attend the first S.I.S.T.E.R.S. Meeting. \nMeeting Agenda: \nSurvey Results \nTeam Breakout Sessions \nLocation: Sanctuary
URL:https://mountpleasantindy.org/calendar/s-i-s-t-e-r-s-womens-ministry-meeting/
LOCATION:IN
END:VEVENT
BEGIN:VEVENT
DTSTART;TZID=UTC:20240429T000000
DTEND;TZID=UTC:20240505T000000
DTSTAMP:20260422T095257
CREATED:20240212T235954Z
LAST-MODIFIED:20240213T005130Z
UID:10000057-1714348800-1714867200@mountpleasantindy.org
SUMMARY:YAYA Week
DESCRIPTION:YAYA Week meeting times are 6:00 pm to 9:00 pm each day
URL:https://mountpleasantindy.org/calendar/yaya-week/
LOCATION:IN
ORGANIZER;CN="Pastor Dennis Williams":MAILTO:dwilliams@mountpleasantindy.org
END:VEVENT
END:VCALENDAR