BEGIN:VCALENDAR
VERSION:2.0
PRODID:-//Mount Pleasant Church - ECPv6.15.20//NONSGML v1.0//EN
CALSCALE:GREGORIAN
METHOD:PUBLISH
X-WR-CALNAME:Mount Pleasant Church
X-ORIGINAL-URL:https://mountpleasantindy.org
X-WR-CALDESC:Events for Mount Pleasant Church
REFRESH-INTERVAL;VALUE=DURATION:PT1H
X-Robots-Tag:noindex
X-PUBLISHED-TTL:PT1H
BEGIN:VTIMEZONE
TZID:UTC
BEGIN:STANDARD
TZOFFSETFROM:+0000
TZOFFSETTO:+0000
TZNAME:UTC
DTSTART:20230101T000000
END:STANDARD
END:VTIMEZONE
BEGIN:VEVENT
DTSTART;TZID=UTC:20240204T093000
DTEND;TZID=UTC:20240204T103000
DTSTAMP:20260422T130926
CREATED:20240131T231623Z
LAST-MODIFIED:20240131T231623Z
UID:10000047-1707039000-1707042600@mountpleasantindy.org
SUMMARY:Outreach Food Drive
DESCRIPTION:Drop off non-perishables in the fellowship hall between services.
URL:https://mountpleasantindy.org/calendar/outreach-food-drive/
LOCATION:IN
END:VEVENT
BEGIN:VEVENT
DTSTART;TZID=UTC:20240211T093000
DTEND;TZID=UTC:20240211T103000
DTSTAMP:20260422T130926
CREATED:20240131T232207Z
LAST-MODIFIED:20240131T232207Z
UID:10000048-1707643800-1707647400@mountpleasantindy.org
SUMMARY:Outreach Food Drive
DESCRIPTION:Drop off non-perishables in the Fellowship Hall between services.
URL:https://mountpleasantindy.org/calendar/outreach-food-drive-2/
LOCATION:IN
END:VEVENT
BEGIN:VEVENT
DTSTART;TZID=UTC:20240217T100000
DTEND;TZID=UTC:20240217T120000
DTSTAMP:20260422T130926
CREATED:20240213T022857Z
LAST-MODIFIED:20240213T022857Z
UID:10000074-1708164000-1708171200@mountpleasantindy.org
SUMMARY:Nora Wood Missionary Ministry Meeting
DESCRIPTION:
URL:https://mountpleasantindy.org/calendar/nora-wood-missionary-ministry-meeting/
LOCATION:Fellowship Hall
ORGANIZER;CN="Angela Kincaid":MAILTO:angelakincaid@aol.com
END:VEVENT
BEGIN:VEVENT
DTSTART;TZID=UTC:20240217T100000
DTEND;TZID=UTC:20240217T120000
DTSTAMP:20260422T130926
CREATED:20240213T031231Z
LAST-MODIFIED:20240213T031624Z
UID:10000078-1708164000-1708171200@mountpleasantindy.org
SUMMARY:Food Pantry is Open
DESCRIPTION:  \nPlease call 317-721-5685 to Confirm the Pantry is open.
URL:https://mountpleasantindy.org/calendar/food-pantry-is-open/
LOCATION:Church Pantry
ORGANIZER;CN="Tamara Mayo":MAILTO:mtpleasantmbcoutreach@gmail.com
END:VEVENT
BEGIN:VEVENT
DTSTART;TZID=UTC:20240217T110000
DTEND;TZID=UTC:20240217T120000
DTSTAMP:20260422T130926
CREATED:20240213T024741Z
LAST-MODIFIED:20240213T024741Z
UID:10000075-1708167600-1708171200@mountpleasantindy.org
SUMMARY:Men of Purpose Ministry
DESCRIPTION:Discussion – Chapters 8 & 9
URL:https://mountpleasantindy.org/calendar/men-of-purpose-ministry/
LOCATION:IN
ORGANIZER;CN="Deacon Robert Sims":MAILTO:rsims4you@aol.com
END:VEVENT
BEGIN:VEVENT
DTSTART;TZID=UTC:20240218T103000
DTEND;TZID=UTC:20240218T120000
DTSTAMP:20260422T130926
CREATED:20240212T235228Z
LAST-MODIFIED:20240213T021833Z
UID:10000054-1708252200-1708257600@mountpleasantindy.org
SUMMARY:Girls Scout Troup Meeting
DESCRIPTION:Following the 10:30 am Service.
URL:https://mountpleasantindy.org/calendar/girls-scout-troup-meeting/
LOCATION:IN
END:VEVENT
BEGIN:VEVENT
DTSTART;TZID=UTC:20240224T090000
DTEND;TZID=UTC:20240224T100000
DTSTAMP:20260422T130926
CREATED:20240213T011526Z
LAST-MODIFIED:20240213T011526Z
UID:10000065-1708765200-1708768800@mountpleasantindy.org
SUMMARY:Trustee Meeting
DESCRIPTION:
URL:https://mountpleasantindy.org/calendar/trustee-meeting-3/
LOCATION:IN
ORGANIZER;CN="Cicely Hart":MAILTO:dst21@sbcglobal.net
END:VEVENT
BEGIN:VEVENT
DTSTART;TZID=UTC:20240224T100000
DTEND;TZID=UTC:20240224T120000
DTSTAMP:20260422T130926
CREATED:20240213T032028Z
LAST-MODIFIED:20240213T032028Z
UID:10000079-1708768800-1708776000@mountpleasantindy.org
SUMMARY:Food Pantry is Open
DESCRIPTION:  \nPlease call 317-721-5685 to Confirm the Pantry is open.
URL:https://mountpleasantindy.org/calendar/food-pantry-is-open-2/
LOCATION:Church Pantry
ORGANIZER;CN="Tamara Mayo":MAILTO:mtpleasantmbcoutreach@gmail.com
END:VEVENT
BEGIN:VEVENT
DTSTART;TZID=UTC:20240224T100000
DTEND;TZID=UTC:20240224T230000
DTSTAMP:20260422T130926
CREATED:20240213T025322Z
LAST-MODIFIED:20240213T025322Z
UID:10000076-1708768800-1708815600@mountpleasantindy.org
SUMMARY:Senior Ushers Meeting
DESCRIPTION:
URL:https://mountpleasantindy.org/calendar/senior-ushers-meeting/
LOCATION:IN
ORGANIZER;CN="Angelean Foster":MAILTO:angeleanfoster1@gmail.com
END:VEVENT
BEGIN:VEVENT
DTSTART;TZID=UTC:20240224T110000
DTEND;TZID=UTC:20240224T120000
DTSTAMP:20260422T130926
CREATED:20240213T032646Z
LAST-MODIFIED:20240213T033011Z
UID:10000080-1708772400-1708776000@mountpleasantindy.org
SUMMARY:Our Pantry and Community Need You!
DESCRIPTION:The Mount Pleasant Food Pantry and the community need you! Meet in the Pantry on Saturday\, February 24 at 11:00 am to see if the outreach ministry is right for you. \n  \n 
URL:https://mountpleasantindy.org/calendar/food-pantry-is-open-3/
LOCATION:Church Pantry
ORGANIZER;CN="Tamara Mayo":MAILTO:mtpleasantmbcoutreach@gmail.com
END:VEVENT
BEGIN:VEVENT
DTSTART;TZID=UTC:20240224T130000
DTEND;TZID=UTC:20240224T170000
DTSTAMP:20260422T130926
CREATED:20240204T191243Z
LAST-MODIFIED:20240204T192926Z
UID:10000050-1708779600-1708794000@mountpleasantindy.org
SUMMARY:New School Vs Old school Basketball 🏀 Game
DESCRIPTION:Members February 24\,2024 @ 1PM is going to be the Basketball game of the year!!!! Our very own superstar @Michael S. Johnson will be on the court! Mr. Keglar will be coaching our older team and I will be coaching our younger guys 15-29.
URL:https://mountpleasantindy.org/calendar/basketball-game/
LOCATION:IN
END:VEVENT
BEGIN:VEVENT
DTSTART;TZID=UTC:20240225T103000
DTEND;TZID=UTC:20240225T120000
DTSTAMP:20260422T130926
CREATED:20240212T235411Z
LAST-MODIFIED:20240213T021513Z
UID:10000055-1708857000-1708862400@mountpleasantindy.org
SUMMARY:Girls Scout Troup Meeting
DESCRIPTION:Following the 10:30 am Service.
URL:https://mountpleasantindy.org/calendar/girls-scout-troup-meeting-2/
LOCATION:IN
END:VEVENT
END:VCALENDAR