BEGIN:VCALENDAR
VERSION:2.0
PRODID:-//Mount Pleasant Church - ECPv6.15.20//NONSGML v1.0//EN
CALSCALE:GREGORIAN
METHOD:PUBLISH
X-WR-CALNAME:Mount Pleasant Church
X-ORIGINAL-URL:https://mountpleasantindy.org
X-WR-CALDESC:Events for Mount Pleasant Church
REFRESH-INTERVAL;VALUE=DURATION:PT1H
X-Robots-Tag:noindex
X-PUBLISHED-TTL:PT1H
BEGIN:VTIMEZONE
TZID:UTC
BEGIN:STANDARD
TZOFFSETFROM:+0000
TZOFFSETTO:+0000
TZNAME:UTC
DTSTART:20220101T000000
END:STANDARD
END:VTIMEZONE
BEGIN:VEVENT
DTSTART;TZID=UTC:20231202T180000
DTEND;TZID=UTC:20231202T180000
DTSTAMP:20260421T143318
CREATED:20230921T191057Z
LAST-MODIFIED:20230921T191057Z
UID:10000041-1701540000-1701540000@mountpleasantindy.org
SUMMARY:YAYA 1st Fashion Show Winter Wonderland
DESCRIPTION:
URL:https://mountpleasantindy.org/calendar/yaya-1st-fashion-show-winter-wonderland/
LOCATION:IN
END:VEVENT
BEGIN:VEVENT
DTSTART;TZID=UTC:20231209T090000
DTEND;TZID=UTC:20231209T140000
DTSTAMP:20260421T143318
CREATED:20231203T014846Z
LAST-MODIFIED:20231205T172246Z
UID:10000042-1702112400-1702130400@mountpleasantindy.org
SUMMARY:Sisters In Christ host Shopping With Mt. Pleasant
DESCRIPTION:
URL:https://mountpleasantindy.org/calendar/sisters-in-christ-host-shopping-with-mt-pleasant/
LOCATION:IN
END:VEVENT
BEGIN:VEVENT
DTSTART;TZID=UTC:20231216T170000
DTEND;TZID=UTC:20231216T200000
DTSTAMP:20260421T143318
CREATED:20231203T015001Z
LAST-MODIFIED:20231203T015149Z
UID:10000043-1702746000-1702756800@mountpleasantindy.org
SUMMARY:Volunteer Appreciation Christmas Dinner
DESCRIPTION:
URL:https://mountpleasantindy.org/calendar/volunteer-appreciation-christmas-dinner/
LOCATION:IN
END:VEVENT
BEGIN:VEVENT
DTSTART;TZID=UTC:20231223T190000
DTEND;TZID=UTC:20231223T230000
DTSTAMP:20260421T143318
CREATED:20231205T171133Z
LAST-MODIFIED:20231205T171133Z
UID:10000045-1703358000-1703372400@mountpleasantindy.org
SUMMARY:Royal Enchantment Teen Formal 2023
DESCRIPTION:
URL:https://mountpleasantindy.org/calendar/royal-enchantment-teen-formal-2023/
LOCATION:IN
END:VEVENT
BEGIN:VEVENT
DTSTART;TZID=UTC:20231231T180000
DTEND;TZID=UTC:20231231T210000
DTSTAMP:20260421T143318
CREATED:20231203T015054Z
LAST-MODIFIED:20231203T015054Z
UID:10000044-1704045600-1704056400@mountpleasantindy.org
SUMMARY:New Year's Eve Service
DESCRIPTION:
URL:https://mountpleasantindy.org/calendar/new-years-eve-service/
LOCATION:IN
END:VEVENT
END:VCALENDAR