BEGIN:VCALENDAR
VERSION:2.0
PRODID:-//Mount Pleasant Church - ECPv6.15.20//NONSGML v1.0//EN
CALSCALE:GREGORIAN
METHOD:PUBLISH
X-WR-CALNAME:Mount Pleasant Church
X-ORIGINAL-URL:https://mountpleasantindy.org
X-WR-CALDESC:Events for Mount Pleasant Church
REFRESH-INTERVAL;VALUE=DURATION:PT1H
X-Robots-Tag:noindex
X-PUBLISHED-TTL:PT1H
BEGIN:VTIMEZONE
TZID:UTC
BEGIN:STANDARD
TZOFFSETFROM:+0000
TZOFFSETTO:+0000
TZNAME:UTC
DTSTART:20220101T000000
END:STANDARD
END:VTIMEZONE
BEGIN:VEVENT
DTSTART;TZID=UTC:20231006T210000
DTEND;TZID=UTC:20231006T235900
DTSTAMP:20260421T210409
CREATED:20230921T190755Z
LAST-MODIFIED:20230921T190840Z
UID:10000039-1696626000-1696636740@mountpleasantindy.org
SUMMARY:Last 5th Quarter of 2023
DESCRIPTION:
URL:https://mountpleasantindy.org/calendar/last-5th-quarter-of-2023/
LOCATION:IN
END:VEVENT
BEGIN:VEVENT
DTSTART;TZID=UTC:20231007T103000
DTEND;TZID=UTC:20231007T123000
DTSTAMP:20260421T210409
CREATED:20230921T190957Z
LAST-MODIFIED:20230921T190957Z
UID:10000040-1696674600-1696681800@mountpleasantindy.org
SUMMARY:Roads to Success Finance Workshop
DESCRIPTION:
URL:https://mountpleasantindy.org/calendar/roads-to-success-finance-workshop/
LOCATION:IN
END:VEVENT
BEGIN:VEVENT
DTSTART;TZID=UTC:20231028T080000
DTEND;TZID=UTC:20231028T230000
DTSTAMP:20260421T210409
CREATED:20230921T190632Z
LAST-MODIFIED:20230921T190632Z
UID:10000038-1698480000-1698534000@mountpleasantindy.org
SUMMARY:Young Adults Trip - Kings Island
DESCRIPTION:
URL:https://mountpleasantindy.org/calendar/young-adults-trip-kings-island/
LOCATION:IN
END:VEVENT
BEGIN:VEVENT
DTSTART;TZID=UTC:20231031T180000
DTEND;TZID=UTC:20231031T203000
DTSTAMP:20260421T210409
CREATED:20230921T174146Z
LAST-MODIFIED:20230921T174146Z
UID:10000037-1698775200-1698784200@mountpleasantindy.org
SUMMARY:Hallelujah Night Festival
DESCRIPTION:
URL:https://mountpleasantindy.org/calendar/hallelujah-night-festival/
LOCATION:IN
END:VEVENT
END:VCALENDAR