BEGIN:VCALENDAR
VERSION:2.0
PRODID:-//Mount Pleasant Church - ECPv6.15.20//NONSGML v1.0//EN
CALSCALE:GREGORIAN
METHOD:PUBLISH
X-WR-CALNAME:Mount Pleasant Church
X-ORIGINAL-URL:https://mountpleasantindy.org
X-WR-CALDESC:Events for Mount Pleasant Church
REFRESH-INTERVAL;VALUE=DURATION:PT1H
X-Robots-Tag:noindex
X-PUBLISHED-TTL:PT1H
BEGIN:VTIMEZONE
TZID:UTC
BEGIN:STANDARD
TZOFFSETFROM:+0000
TZOFFSETTO:+0000
TZNAME:UTC
DTSTART:20220101T000000
END:STANDARD
END:VTIMEZONE
BEGIN:VEVENT
DTSTART;TZID=UTC:20230401T100000
DTEND;TZID=UTC:20230401T120000
DTSTAMP:20260420T062635
CREATED:20230404T184133Z
LAST-MODIFIED:20230404T184133Z
UID:10000002-1680343200-1680350400@mountpleasantindy.org
SUMMARY:Outreach Ministry
DESCRIPTION:
URL:https://mountpleasantindy.org/calendar/outreach-ministry/
LOCATION:Church Pantry
END:VEVENT
END:VCALENDAR