BEGIN:VCALENDAR
VERSION:2.0
PRODID:-//Mount Pleasant Church - ECPv6.15.20//NONSGML v1.0//EN
CALSCALE:GREGORIAN
METHOD:PUBLISH
X-ORIGINAL-URL:https://mountpleasantindy.org
X-WR-CALDESC:Events for Mount Pleasant Church
REFRESH-INTERVAL;VALUE=DURATION:PT1H
X-Robots-Tag:noindex
X-PUBLISHED-TTL:PT1H
BEGIN:VTIMEZONE
TZID:UTC
BEGIN:STANDARD
TZOFFSETFROM:+0000
TZOFFSETTO:+0000
TZNAME:UTC
DTSTART:20250101T000000
END:STANDARD
END:VTIMEZONE
BEGIN:VEVENT
DTSTART;TZID=UTC:20261108T093000
DTEND;TZID=UTC:20261108T103000
DTSTAMP:20260419T135831
CREATED:20260204T012355Z
LAST-MODIFIED:20260204T013416Z
UID:10000264-1794130200-1794133800@mountpleasantindy.org
SUMMARY:Pastor Johnson's 14th Pastoral Anniversary
DESCRIPTION:Reception
URL:https://mountpleasantindy.org/calendar/pastor-johnsons-14th-pastoral-anniversary/
LOCATION:Fellowship Hall
ORGANIZER;CN="Jenee Green":MAILTO:jgreen@mountpleasantindy.org
END:VEVENT
END:VCALENDAR