BEGIN:VCALENDAR
VERSION:2.0
PRODID:-//Mount Pleasant Church - ECPv6.15.20//NONSGML v1.0//EN
CALSCALE:GREGORIAN
METHOD:PUBLISH
X-WR-CALNAME:Mount Pleasant Church
X-ORIGINAL-URL:https://mountpleasantindy.org
X-WR-CALDESC:Events for Mount Pleasant Church
REFRESH-INTERVAL;VALUE=DURATION:PT1H
X-Robots-Tag:noindex
X-PUBLISHED-TTL:PT1H
BEGIN:VTIMEZONE
TZID:UTC
BEGIN:STANDARD
TZOFFSETFROM:+0000
TZOFFSETTO:+0000
TZNAME:UTC
DTSTART:20230101T000000
END:STANDARD
END:VTIMEZONE
BEGIN:VEVENT
DTSTART;TZID=UTC:20241221T090000
DTEND;TZID=UTC:20241221T100000
DTSTAMP:20260419T234457
CREATED:20240213T013602Z
LAST-MODIFIED:20240213T014205Z
UID:10000073-1734771600-1734775200@mountpleasantindy.org
SUMMARY:Trustee Meeting
DESCRIPTION:Due to Holiday.
URL:https://mountpleasantindy.org/calendar/trustee-meeting/
LOCATION:IN
ORGANIZER;CN="Cicely Hart":MAILTO:dst21@sbcglobal.net
END:VEVENT
END:VCALENDAR