BEGIN:VCALENDAR
VERSION:2.0
PRODID:-//Mount Pleasant Church - ECPv6.15.20//NONSGML v1.0//EN
CALSCALE:GREGORIAN
METHOD:PUBLISH
X-ORIGINAL-URL:https://mountpleasantindy.org
X-WR-CALDESC:Events for Mount Pleasant Church
REFRESH-INTERVAL;VALUE=DURATION:PT1H
X-Robots-Tag:noindex
X-PUBLISHED-TTL:PT1H
BEGIN:VTIMEZONE
TZID:UTC
BEGIN:STANDARD
TZOFFSETFROM:+0000
TZOFFSETTO:+0000
TZNAME:UTC
DTSTART:20230101T000000
END:STANDARD
END:VTIMEZONE
BEGIN:VEVENT
DTSTART;TZID=UTC:20240818T103000
DTEND;TZID=UTC:20240818T103000
DTSTAMP:20260420T060542
CREATED:20240713T153055Z
LAST-MODIFIED:20240713T154104Z
UID:10000124-1723977000-1723977000@mountpleasantindy.org
SUMMARY:BAPTISMS & BABY DEDICATIONS
DESCRIPTION:Every 3rd Sunday \nContact Sis. Dana Keets at 317-291-6655 to schedule your event.
URL:https://mountpleasantindy.org/calendar/baptisms-baby-dedications/
LOCATION:IN
END:VEVENT
BEGIN:VEVENT
DTSTART;TZID=UTC:20240818T150000
DTEND;TZID=UTC:20240818T160000
DTSTAMP:20260420T060542
CREATED:20240522T020114Z
LAST-MODIFIED:20240713T153450Z
UID:10000118-1723993200-1723996800@mountpleasantindy.org
SUMMARY:MINISTRY OF MUSIC & ARTS @ INDIANA STATE FAIR GOSPEL DAY
DESCRIPTION:Hoosier Lottery Free Stage \n 
URL:https://mountpleasantindy.org/calendar/ministry-of-music-arts-indiana-state-fair-gospel-day/
LOCATION:Indiana State Fair Grounds\, 1202 E. 38th St.\, Indianapolis\, IN\, 46205\, United States
END:VEVENT
END:VCALENDAR