BEGIN:VCALENDAR
VERSION:2.0
PRODID:-//Mount Pleasant Church - ECPv6.15.20//NONSGML v1.0//EN
CALSCALE:GREGORIAN
METHOD:PUBLISH
X-WR-CALNAME:Mount Pleasant Church
X-ORIGINAL-URL:https://mountpleasantindy.org
X-WR-CALDESC:Events for Mount Pleasant Church
REFRESH-INTERVAL;VALUE=DURATION:PT1H
X-Robots-Tag:noindex
X-PUBLISHED-TTL:PT1H
BEGIN:VTIMEZONE
TZID:UTC
BEGIN:STANDARD
TZOFFSETFROM:+0000
TZOFFSETTO:+0000
TZNAME:UTC
DTSTART:20230101T000000
END:STANDARD
END:VTIMEZONE
BEGIN:VEVENT
DTSTART;TZID=UTC:20240728T123000
DTEND;TZID=UTC:20240728T133000
DTSTAMP:20260417T174818
CREATED:20240705T012454Z
LAST-MODIFIED:20240707T173119Z
UID:10000121-1722169800-1722173400@mountpleasantindy.org
SUMMARY:SENIOR MINISTRY MEETING - Committee Members ONLY
DESCRIPTION:The meeting will be held in the Deacon’s Classroom and for Committee Members only.
URL:https://mountpleasantindy.org/calendar/senior-ministry-meeting/
LOCATION:IN
END:VEVENT
END:VCALENDAR