BEGIN:VCALENDAR
VERSION:2.0
PRODID:-//Mount Pleasant Church - ECPv6.15.20//NONSGML v1.0//EN
CALSCALE:GREGORIAN
METHOD:PUBLISH
X-WR-CALNAME:Mount Pleasant Church
X-ORIGINAL-URL:https://mountpleasantindy.org
X-WR-CALDESC:Events for Mount Pleasant Church
REFRESH-INTERVAL;VALUE=DURATION:PT1H
X-Robots-Tag:noindex
X-PUBLISHED-TTL:PT1H
BEGIN:VTIMEZONE
TZID:UTC
BEGIN:STANDARD
TZOFFSETFROM:+0000
TZOFFSETTO:+0000
TZNAME:UTC
DTSTART:20230101T000000
END:STANDARD
END:VTIMEZONE
BEGIN:VEVENT
DTSTART;TZID=UTC:20240720T093000
DTEND;TZID=UTC:20240720T130000
DTSTAMP:20260420T073915
CREATED:20240703T024548Z
LAST-MODIFIED:20240703T024706Z
UID:10000120-1721467800-1721480400@mountpleasantindy.org
SUMMARY:GLEANERS FOOD DISTRIBUTION
DESCRIPTION:Volunteers are needed to assist with food distribution. \nJohn Marshall High School\,\n10101 E 38th St\, Indianapolis\, IN 46236 \n 
URL:https://mountpleasantindy.org/calendar/gleaners-food-distribution/
LOCATION:IN
ORGANIZER;CN="Tamara Mayo":MAILTO:mtpleasantmbcoutreach@gmail.com
END:VEVENT
BEGIN:VEVENT
DTSTART;TZID=UTC:20240720T100000
DTEND;TZID=UTC:20240720T120000
DTSTAMP:20260420T073915
CREATED:20240707T173527Z
LAST-MODIFIED:20240707T173833Z
UID:10000123-1721469600-1721476800@mountpleasantindy.org
SUMMARY:NORA WOOD MISSIONARY MINISTRY MEETING - POSTPONED
DESCRIPTION:No Nora Wood Missionary Ministry meeting.
URL:https://mountpleasantindy.org/calendar/nora-wood-missionary-ministry-meeting-posponed/
LOCATION:IN
ORGANIZER;CN="Angela Kincaid":MAILTO:angelakincaid@aol.com
END:VEVENT
BEGIN:VEVENT
DTSTART;TZID=UTC:20240720T110000
DTEND;TZID=UTC:20240720T120000
DTSTAMP:20260420T073915
CREATED:20240707T172932Z
LAST-MODIFIED:20240707T172932Z
UID:10000122-1721473200-1721476800@mountpleasantindy.org
SUMMARY:MEN of PURPOSE Meeting
DESCRIPTION:
URL:https://mountpleasantindy.org/calendar/men-of-purpose-meeting-2/
LOCATION:IN
ORGANIZER;CN="Deacon Robert Sims":MAILTO:rsims4you@aol.com
END:VEVENT
END:VCALENDAR