BEGIN:VCALENDAR
VERSION:2.0
PRODID:-//Mount Pleasant Church - ECPv6.15.20//NONSGML v1.0//EN
CALSCALE:GREGORIAN
METHOD:PUBLISH
X-WR-CALNAME:Mount Pleasant Church
X-ORIGINAL-URL:https://mountpleasantindy.org
X-WR-CALDESC:Events for Mount Pleasant Church
REFRESH-INTERVAL;VALUE=DURATION:PT1H
X-Robots-Tag:noindex
X-PUBLISHED-TTL:PT1H
BEGIN:VTIMEZONE
TZID:UTC
BEGIN:STANDARD
TZOFFSETFROM:+0000
TZOFFSETTO:+0000
TZNAME:UTC
DTSTART:20230101T000000
END:STANDARD
END:VTIMEZONE
BEGIN:VEVENT
DTSTART;TZID=UTC:20240719T184500
DTEND;TZID=UTC:20240719T190000
DTSTAMP:20260420T073917
CREATED:20240522T005829Z
LAST-MODIFIED:20240522T010521Z
UID:10000116-1721414700-1721415600@mountpleasantindy.org
SUMMARY:SUMMER WALKING SERIES - S.I.S.T.E.R.S. WELLNESS MINISTRY
DESCRIPTION:Indy Canal \nMeet at Burgeezy 335 W 9th St D\, Indianapolis\, IN 46202 \n3 mile loop- paved surface \nFree street parking on Senate Ave \n6:45pm Prayer / Walk begins at 7:00pm
URL:https://mountpleasantindy.org/calendar/summer-walking-series-s-i-s-t-e-r-s-wellness-ministry-3/
LOCATION:INDY Canal
ORGANIZER;CN="Danielle Weddington":MAILTO:898kdw@gmail.com
END:VEVENT
END:VCALENDAR