BEGIN:VCALENDAR
VERSION:2.0
PRODID:-//Mount Pleasant Church - ECPv6.15.20//NONSGML v1.0//EN
CALSCALE:GREGORIAN
METHOD:PUBLISH
X-WR-CALNAME:Mount Pleasant Church
X-ORIGINAL-URL:https://mountpleasantindy.org
X-WR-CALDESC:Events for Mount Pleasant Church
REFRESH-INTERVAL;VALUE=DURATION:PT1H
X-Robots-Tag:noindex
X-PUBLISHED-TTL:PT1H
BEGIN:VTIMEZONE
TZID:UTC
BEGIN:STANDARD
TZOFFSETFROM:+0000
TZOFFSETTO:+0000
TZNAME:UTC
DTSTART:20230101T000000
END:STANDARD
END:VTIMEZONE
BEGIN:VEVENT
DTSTART;TZID=UTC:20240712T184500
DTEND;TZID=UTC:20240712T200000
DTSTAMP:20260420T074029
CREATED:20240418T230533Z
LAST-MODIFIED:20240522T005316Z
UID:10000108-1720809900-1720814400@mountpleasantindy.org
SUMMARY:Summer Walking Series - S.I.S.T.E.R.S. Wellness Ministry
DESCRIPTION:Monon Trail \nParking lot near Aldi 1440 E 86th Indianapolis\, IN 46240 \n2 miles out and 2 miles back= 4 total miles- paved surface \n6:45pm Prayer / Walk begins at 7:00pm
URL:https://mountpleasantindy.org/calendar/summer-walking-series-mount-pleasant-wellness-ministry-2/
LOCATION:MONON Trail
ORGANIZER;CN="Danielle Weddington":MAILTO:898kdw@gmail.com
END:VEVENT
END:VCALENDAR