BEGIN:VCALENDAR
VERSION:2.0
PRODID:-//Mount Pleasant Church - ECPv6.15.20//NONSGML v1.0//EN
CALSCALE:GREGORIAN
METHOD:PUBLISH
X-WR-CALNAME:Mount Pleasant Church
X-ORIGINAL-URL:https://mountpleasantindy.org
X-WR-CALDESC:Events for Mount Pleasant Church
REFRESH-INTERVAL;VALUE=DURATION:PT1H
X-Robots-Tag:noindex
X-PUBLISHED-TTL:PT1H
BEGIN:VTIMEZONE
TZID:UTC
BEGIN:STANDARD
TZOFFSETFROM:+0000
TZOFFSETTO:+0000
TZNAME:UTC
DTSTART:20230101T000000
END:STANDARD
END:VTIMEZONE
BEGIN:VEVENT
DTSTART;TZID=UTC:20240705T190000
DTEND;TZID=UTC:20240705T190000
DTSTAMP:20260419T151725
CREATED:20240418T230011Z
LAST-MODIFIED:20240522T004847Z
UID:10000107-1720206000-1720206000@mountpleasantindy.org
SUMMARY:Summer Walking Series - S.I.S.T.E.R.S. Wellness Ministry
DESCRIPTION:Northwestway Park \n5253 W 62nd St\, Indianapolis\, IN 46268 \n1.6 mile loop- paved surface \nParking lot near the entrance \n6:45pm Prayer / Walk begins at 7:00pm
URL:https://mountpleasantindy.org/calendar/summer-walking-series-mount-pleasant-wellness-ministry/
LOCATION:Northwestway Park\, 5253 W 62nd St\, Indianapolis\, IN\, 46268\, United States
ORGANIZER;CN="Danielle Weddington":MAILTO:898kdw@gmail.com
END:VEVENT
END:VCALENDAR