BEGIN:VCALENDAR
VERSION:2.0
PRODID:-//Mount Pleasant Church - ECPv6.15.20//NONSGML v1.0//EN
CALSCALE:GREGORIAN
METHOD:PUBLISH
X-ORIGINAL-URL:https://mountpleasantindy.org
X-WR-CALDESC:Events for Mount Pleasant Church
REFRESH-INTERVAL;VALUE=DURATION:PT1H
X-Robots-Tag:noindex
X-PUBLISHED-TTL:PT1H
BEGIN:VTIMEZONE
TZID:UTC
BEGIN:STANDARD
TZOFFSETFROM:+0000
TZOFFSETTO:+0000
TZNAME:UTC
DTSTART:20230101T000000
END:STANDARD
END:VTIMEZONE
BEGIN:VEVENT
DTSTART;TZID=UTC:20240614T173000
DTEND;TZID=UTC:20240614T200000
DTSTAMP:20260422T082254
CREATED:20240213T003625Z
LAST-MODIFIED:20240213T003625Z
UID:10000062-1718386200-1718395200@mountpleasantindy.org
SUMMARY:Vacation Bible School
DESCRIPTION:
URL:https://mountpleasantindy.org/calendar/vacation-bible-school-4/
LOCATION:Fellowship Hall
ORGANIZER;CN="Kimberly Harris":MAILTO:kharris1962@yahoo.com
END:VEVENT
BEGIN:VEVENT
DTSTART;TZID=UTC:20240614T184500
DTEND;TZID=UTC:20240614T200000
DTSTAMP:20260422T082254
CREATED:20240521T235501Z
LAST-MODIFIED:20240522T000213Z
UID:10000114-1718390700-1718395200@mountpleasantindy.org
SUMMARY:SUMMER WALKING SERIES - S.I.S.T.E.R.S. WELLNESS MINISTRY
DESCRIPTION:Monon Trail \nParking lot near Aldi 1440 E 86th Indianapolis\, IN 46240 \n2 miles out and 2 miles back= 4 total miles- paved surface \n6:45pm  Prayer / Walk begins at 7:00pm\n\n\n\n \n 
URL:https://mountpleasantindy.org/calendar/summer-walking-series-s-i-s-t-e-r-s-wellness-ministry-2/
LOCATION:MONON Trail
ORGANIZER;CN="Danielle Weddington":MAILTO:898kdw@gmail.com
END:VEVENT
END:VCALENDAR