BEGIN:VCALENDAR
VERSION:2.0
PRODID:-//Mount Pleasant Church - ECPv6.15.20//NONSGML v1.0//EN
CALSCALE:GREGORIAN
METHOD:PUBLISH
X-WR-CALNAME:Mount Pleasant Church
X-ORIGINAL-URL:https://mountpleasantindy.org
X-WR-CALDESC:Events for Mount Pleasant Church
REFRESH-INTERVAL;VALUE=DURATION:PT1H
X-Robots-Tag:noindex
X-PUBLISHED-TTL:PT1H
BEGIN:VTIMEZONE
TZID:UTC
BEGIN:STANDARD
TZOFFSETFROM:+0000
TZOFFSETTO:+0000
TZNAME:UTC
DTSTART:20230101T000000
END:STANDARD
END:VTIMEZONE
BEGIN:VEVENT
DTSTART;TZID=UTC:20240611T173000
DTEND;TZID=UTC:20240611T200000
DTSTAMP:20260422T083643
CREATED:20240213T001457Z
LAST-MODIFIED:20240213T003231Z
UID:10000059-1718127000-1718136000@mountpleasantindy.org
SUMMARY:Vacation Bible School
DESCRIPTION:
URL:https://mountpleasantindy.org/calendar/vacation-bible-school/
LOCATION:Fellowship Hall
ORGANIZER;CN="Kimberly Harris":MAILTO:kharris1962@yahoo.com
END:VEVENT
END:VCALENDAR