BEGIN:VCALENDAR
VERSION:2.0
PRODID:-//Mount Pleasant Church - ECPv6.15.20//NONSGML v1.0//EN
CALSCALE:GREGORIAN
METHOD:PUBLISH
X-WR-CALNAME:Mount Pleasant Church
X-ORIGINAL-URL:https://mountpleasantindy.org
X-WR-CALDESC:Events for Mount Pleasant Church
REFRESH-INTERVAL;VALUE=DURATION:PT1H
X-Robots-Tag:noindex
X-PUBLISHED-TTL:PT1H
BEGIN:VTIMEZONE
TZID:UTC
BEGIN:STANDARD
TZOFFSETFROM:+0000
TZOFFSETTO:+0000
TZNAME:UTC
DTSTART:20230101T000000
END:STANDARD
END:VTIMEZONE
BEGIN:VEVENT
DTSTART;TZID=UTC:20240427T090000
DTEND;TZID=UTC:20240427T100000
DTSTAMP:20260422T030741
CREATED:20240213T011924Z
LAST-MODIFIED:20240213T011924Z
UID:10000066-1714208400-1714212000@mountpleasantindy.org
SUMMARY:Trustee Meeting
DESCRIPTION:
URL:https://mountpleasantindy.org/calendar/trustee-meeting-4/
LOCATION:IN
ORGANIZER;CN="Cicely Hart":MAILTO:dst21@sbcglobal.net
END:VEVENT
BEGIN:VEVENT
DTSTART;TZID=UTC:20240427T100000
DTEND;TZID=UTC:20240427T120000
DTSTAMP:20260422T030741
CREATED:20240212T234631Z
LAST-MODIFIED:20240330T144252Z
UID:10000053-1714212000-1714219200@mountpleasantindy.org
SUMMARY:Shred It Event
DESCRIPTION:Bring your documents to be shredded on-site. \nTell your family\, friends\, and neighbors. \nCost: $5 per box
URL:https://mountpleasantindy.org/calendar/shred-it-event/
LOCATION:IN
END:VEVENT
BEGIN:VEVENT
DTSTART;TZID=UTC:20240427T100000
DTEND;TZID=UTC:20240427T120000
DTSTAMP:20260422T030741
CREATED:20240330T130612Z
LAST-MODIFIED:20240330T133134Z
UID:10000096-1714212000-1714219200@mountpleasantindy.org
SUMMARY:Mount Pleasant Food Pantry
DESCRIPTION:Event Subject to change. Call 317-721-5685 to confirm.
URL:https://mountpleasantindy.org/calendar/mount-pleasant-food-pantry-6/
LOCATION:IN
END:VEVENT
BEGIN:VEVENT
DTSTART;TZID=UTC:20240427T130000
DTEND;TZID=UTC:20240427T143000
DTSTAMP:20260422T030741
CREATED:20240411T224602Z
LAST-MODIFIED:20240411T224744Z
UID:10000106-1714222800-1714228200@mountpleasantindy.org
SUMMARY:S.I.S.T.E.R.S. Women's Ministry Meeting
DESCRIPTION:All Mount Pleasant women are welcomed to attend the first S.I.S.T.E.R.S. Meeting. \nMeeting Agenda: \nSurvey Results \nTeam Breakout Sessions \nLocation: Sanctuary
URL:https://mountpleasantindy.org/calendar/s-i-s-t-e-r-s-womens-ministry-meeting/
LOCATION:IN
END:VEVENT
END:VCALENDAR