BEGIN:VCALENDAR
VERSION:2.0
PRODID:-//Mount Pleasant Church - ECPv6.15.20//NONSGML v1.0//EN
CALSCALE:GREGORIAN
METHOD:PUBLISH
X-WR-CALNAME:Mount Pleasant Church
X-ORIGINAL-URL:https://mountpleasantindy.org
X-WR-CALDESC:Events for Mount Pleasant Church
REFRESH-INTERVAL;VALUE=DURATION:PT1H
X-Robots-Tag:noindex
X-PUBLISHED-TTL:PT1H
BEGIN:VTIMEZONE
TZID:UTC
BEGIN:STANDARD
TZOFFSETFROM:+0000
TZOFFSETTO:+0000
TZNAME:UTC
DTSTART:20230101T000000
END:STANDARD
END:VTIMEZONE
BEGIN:VEVENT
DTSTART;VALUE=DATE:20240424
DTEND;VALUE=DATE:20240425
DTSTAMP:20260422T113247
CREATED:20240405T021835Z
LAST-MODIFIED:20240405T022138Z
UID:10000103-1713916800-1714003199@mountpleasantindy.org
SUMMARY:Bible Study
DESCRIPTION:NOON  In-person\, \n7:00 PM on BAND \n  \n \n  \n  \n 
URL:https://mountpleasantindy.org/calendar/bible-study/
LOCATION:IN
END:VEVENT
END:VCALENDAR