BEGIN:VCALENDAR
VERSION:2.0
PRODID:-//Mount Pleasant Church - ECPv6.15.20//NONSGML v1.0//EN
CALSCALE:GREGORIAN
METHOD:PUBLISH
X-WR-CALNAME:Mount Pleasant Church
X-ORIGINAL-URL:https://mountpleasantindy.org
X-WR-CALDESC:Events for Mount Pleasant Church
REFRESH-INTERVAL;VALUE=DURATION:PT1H
X-Robots-Tag:noindex
X-PUBLISHED-TTL:PT1H
BEGIN:VTIMEZONE
TZID:UTC
BEGIN:STANDARD
TZOFFSETFROM:+0000
TZOFFSETTO:+0000
TZNAME:UTC
DTSTART:20230101T000000
END:STANDARD
END:VTIMEZONE
BEGIN:VEVENT
DTSTART;TZID=UTC:20240330T090000
DTEND;TZID=UTC:20240330T220000
DTSTAMP:20260421T205509
CREATED:20240213T011208Z
LAST-MODIFIED:20240213T011208Z
UID:10000064-1711789200-1711836000@mountpleasantindy.org
SUMMARY:Trustee Meeting
DESCRIPTION:
URL:https://mountpleasantindy.org/calendar/trustee-meeting-2/
LOCATION:IN
ORGANIZER;CN="Cicely Hart":MAILTO:dst21@sbcglobal.net
END:VEVENT
BEGIN:VEVENT
DTSTART;TZID=UTC:20240330T100000
DTEND;TZID=UTC:20240330T120000
DTSTAMP:20260421T205509
CREATED:20240330T130129Z
LAST-MODIFIED:20240330T135036Z
UID:10000092-1711792800-1711800000@mountpleasantindy.org
SUMMARY:Mount Pleasant Food Pantry
DESCRIPTION:Event Subject to change. Call 317-721-5685 to confirm. \n \n 
URL:https://mountpleasantindy.org/calendar/mount-pleasant-food-pantry-2/
LOCATION:IN
END:VEVENT
BEGIN:VEVENT
DTSTART;TZID=UTC:20240330T120000
DTEND;TZID=UTC:20240330T150000
DTSTAMP:20260421T205509
CREATED:20240204T191753Z
LAST-MODIFIED:20240204T192319Z
UID:10000051-1711800000-1711810800@mountpleasantindy.org
SUMMARY:Easter Production / The Flight B4 Easter
DESCRIPTION:The youth and young adults of Mount Pleasant missionary Baptist Church will be presenting our Easter play\, entitled “The Flight Gefore Easter”.
URL:https://mountpleasantindy.org/calendar/easter-production-the-flight-b4-easter/
LOCATION:IN
END:VEVENT
BEGIN:VEVENT
DTSTART;TZID=UTC:20240330T150000
DTEND;TZID=UTC:20240330T160000
DTSTAMP:20260421T205509
CREATED:20240301T043547Z
LAST-MODIFIED:20240301T043547Z
UID:10000085-1711810800-1711814400@mountpleasantindy.org
SUMMARY:Easter Egg Hunt
DESCRIPTION:Invite a child! \nBecause immediately following the Easter production\, an Easter egg hunt and Easter activities will begin. \nThe YAYA Ministry looks forward to seeing everyone.
URL:https://mountpleasantindy.org/calendar/easter-egg-hunt/
LOCATION:IN
END:VEVENT
END:VCALENDAR