BEGIN:VCALENDAR
VERSION:2.0
PRODID:-//Mount Pleasant Church - ECPv6.15.20//NONSGML v1.0//EN
CALSCALE:GREGORIAN
METHOD:PUBLISH
X-WR-CALNAME:Mount Pleasant Church
X-ORIGINAL-URL:https://mountpleasantindy.org
X-WR-CALDESC:Events for Mount Pleasant Church
REFRESH-INTERVAL;VALUE=DURATION:PT1H
X-Robots-Tag:noindex
X-PUBLISHED-TTL:PT1H
BEGIN:VTIMEZONE
TZID:UTC
BEGIN:STANDARD
TZOFFSETFROM:+0000
TZOFFSETTO:+0000
TZNAME:UTC
DTSTART:20230101T000000
END:STANDARD
END:VTIMEZONE
BEGIN:VEVENT
DTSTART;TZID=UTC:20240316T090000
DTEND;TZID=UTC:20240316T110000
DTSTAMP:20260422T002518
CREATED:20240301T043137Z
LAST-MODIFIED:20240301T043137Z
UID:10000084-1710579600-1710586800@mountpleasantindy.org
SUMMARY:Nora Wood Ministry
DESCRIPTION:The Nora Wood Ministry will be stuffing Easter Baggies\, starting at 9:00am. \nMinistry members are asking volunteers to help stuff these baggies to show our local nursing home residents a little love!
URL:https://mountpleasantindy.org/calendar/nora-wood-ministry/
LOCATION:Fellowship Hall
END:VEVENT
BEGIN:VEVENT
DTSTART;TZID=UTC:20240316T110000
DTEND;TZID=UTC:20240316T120000
DTSTAMP:20260422T002518
CREATED:20240301T042524Z
LAST-MODIFIED:20240301T042524Z
UID:10000083-1710586800-1710590400@mountpleasantindy.org
SUMMARY:Men of Purpose
DESCRIPTION:Men of Purpose invite male youth to join them for their March meeting.  Fathers\, this is a great opportunity to bring your sons\, youth\, and tenured male members to fellowship. \nBook discussion will conclude with opportunities to work with and support male youth.
URL:https://mountpleasantindy.org/calendar/men-of-purpose/
LOCATION:IN
END:VEVENT
END:VCALENDAR