BEGIN:VCALENDAR
VERSION:2.0
PRODID:-//Mount Pleasant Church - ECPv6.15.20//NONSGML v1.0//EN
CALSCALE:GREGORIAN
METHOD:PUBLISH
X-WR-CALNAME:Mount Pleasant Church
X-ORIGINAL-URL:https://mountpleasantindy.org
X-WR-CALDESC:Events for Mount Pleasant Church
REFRESH-INTERVAL;VALUE=DURATION:PT1H
X-Robots-Tag:noindex
X-PUBLISHED-TTL:PT1H
BEGIN:VTIMEZONE
TZID:UTC
BEGIN:STANDARD
TZOFFSETFROM:+0000
TZOFFSETTO:+0000
TZNAME:UTC
DTSTART:20220101T000000
END:STANDARD
END:VTIMEZONE
BEGIN:VEVENT
DTSTART;TZID=UTC:20230520T100000
DTEND;TZID=UTC:20230520T120000
DTSTAMP:20260422T063423
CREATED:20230407T134344Z
LAST-MODIFIED:20230407T134344Z
UID:10000012-1684576800-1684584000@mountpleasantindy.org
SUMMARY:Nora Wood Missionary
DESCRIPTION:
URL:https://mountpleasantindy.org/calendar/nora-wood-missionary/
LOCATION:IN
END:VEVENT
BEGIN:VEVENT
DTSTART;TZID=UTC:20230520T100000
DTEND;TZID=UTC:20230520T120000
DTSTAMP:20260422T063423
CREATED:20230407T135841Z
LAST-MODIFIED:20230407T135841Z
UID:10000014-1684576800-1684584000@mountpleasantindy.org
SUMMARY:Church Pantry
DESCRIPTION:
URL:https://mountpleasantindy.org/calendar/church-pantry-2/
LOCATION:IN
END:VEVENT
BEGIN:VEVENT
DTSTART;TZID=UTC:20230520T100000
DTEND;TZID=UTC:20230520T120000
DTSTAMP:20260422T063423
CREATED:20230427T180439Z
LAST-MODIFIED:20230427T180439Z
UID:10000019-1684576800-1684584000@mountpleasantindy.org
SUMMARY:Men of Purpose Meeting
DESCRIPTION:
URL:https://mountpleasantindy.org/calendar/men-of-purpose-meeting/
LOCATION:IN
END:VEVENT
BEGIN:VEVENT
DTSTART;TZID=UTC:20230520T120000
DTEND;TZID=UTC:20230520T150000
DTSTAMP:20260422T063423
CREATED:20230406T201235Z
LAST-MODIFIED:20230406T201235Z
UID:10000005-1684584000-1684594800@mountpleasantindy.org
SUMMARY:Afternoon Tea for First Lady\, Kristie
DESCRIPTION:
URL:https://mountpleasantindy.org/calendar/afternoon-tea-for-first-lady-kristie/
LOCATION:IN
END:VEVENT
END:VCALENDAR