BEGIN:VCALENDAR
VERSION:2.0
PRODID:-//Mount Pleasant Church - ECPv6.15.20//NONSGML v1.0//EN
CALSCALE:GREGORIAN
METHOD:PUBLISH
X-ORIGINAL-URL:https://mountpleasantindy.org
X-WR-CALDESC:Events for Mount Pleasant Church
REFRESH-INTERVAL;VALUE=DURATION:PT1H
X-Robots-Tag:noindex
X-PUBLISHED-TTL:PT1H
BEGIN:VTIMEZONE
TZID:UTC
BEGIN:STANDARD
TZOFFSETFROM:+0000
TZOFFSETTO:+0000
TZNAME:UTC
DTSTART:20220101T000000
END:STANDARD
END:VTIMEZONE
BEGIN:VEVENT
DTSTART;TZID=UTC:20230503T190000
DTEND;TZID=UTC:20230503T200000
DTSTAMP:20260422T064758
CREATED:20230427T180609Z
LAST-MODIFIED:20230427T180609Z
UID:10000020-1683140400-1683144000@mountpleasantindy.org
SUMMARY:Youth Bible Study
DESCRIPTION:
URL:https://mountpleasantindy.org/calendar/youth-bible-study/
LOCATION:IN
END:VEVENT
BEGIN:VEVENT
DTSTART;TZID=UTC:20230503T190000
DTEND;TZID=UTC:20230503T200000
DTSTAMP:20260422T064758
CREATED:20230502T184531Z
LAST-MODIFIED:20230502T184531Z
UID:10000022-1683140400-1683144000@mountpleasantindy.org
SUMMARY:Youth Bible Study
DESCRIPTION:
URL:https://mountpleasantindy.org/calendar/youth-bible-study-2/
LOCATION:IN
END:VEVENT
END:VCALENDAR